{
 "currentVersion": 10.71,
 "serviceDescription": "pendenze 2018",
 "mapName": "Layers",
 "description": "",
 "copyrightText": "",
 "supportsDynamicLayers": true,
 "layers": [
  {
   "id": 0,
   "name": "DTM",
   "parentLayerId": -1,
   "defaultVisibility": true,
   "subLayerIds": null,
   "minScale": 0,
   "maxScale": 1000,
   "type": "Raster Layer"
  },
  {
   "id": 1,
   "name": "ombre",
   "parentLayerId": -1,
   "defaultVisibility": true,
   "subLayerIds": null,
   "minScale": 0,
   "maxScale": 1000,
   "type": "Raster Layer"
  },
  {
   "id": 2,
   "name": "Carta Territorio",
   "parentLayerId": -1,
   "defaultVisibility": true,
   "subLayerIds": null,
   "minScale": 1000,
   "maxScale": 0,
   "type": "Feature Layer",
   "geometryType": "esriGeometryPolygon"
  }
 ],
 "tables": [],
 "spatialReference": {
  "wkt": "PROJCS[\"Cassini_RSM_GR\",GEOGCS[\"GCS_Cassini_GR\",DATUM[\"D_Bessel_1841\",SPHEROID[\"Bessel_1841\",6377397.155,299.1528128]],PRIMEM[\"Genova\",8.921030277],UNIT[\"Degree\",0.0174532925199433]],PROJECTION[\"Cassini\"],PARAMETER[\"False_Easting\",0.0],PARAMETER[\"False_Northing\",0.0],PARAMETER[\"Central_Meridian\",11.75306861],PARAMETER[\"Scale_Factor\",1.0],PARAMETER[\"Latitude_Of_Origin\",44.53195694],UNIT[\"Meter\",1.0]]"
 },
 "singleFusedMapCache": true,
 "tileInfo": {
  "rows": 512,
  "cols": 512,
  "dpi": 96,
  "format": "PNG24",
  "compressionQuality": 0,
  "origin": {
   "x": -5008900,
   "y": 5068600
  },
  "spatialReference": {
   "wkt": "PROJCS[\"Cassini_RSM_GR\",GEOGCS[\"GCS_Cassini_GR\",DATUM[\"D_Bessel_1841\",SPHEROID[\"Bessel_1841\",6377397.155,299.1528128]],PRIMEM[\"Genova\",8.921030277],UNIT[\"Degree\",0.0174532925199433]],PROJECTION[\"Cassini\"],PARAMETER[\"False_Easting\",0.0],PARAMETER[\"False_Northing\",0.0],PARAMETER[\"Central_Meridian\",11.75306861],PARAMETER[\"Scale_Factor\",1.0],PARAMETER[\"Latitude_Of_Origin\",44.53195694],UNIT[\"Meter\",1.0]]"
  },
  "lods": [
   {
    "level": 0,
    "resolution": 13.229193125052918,
    "scale": 50000
   },
   {
    "level": 1,
    "resolution": 6.614596562526459,
    "scale": 25000
   },
   {
    "level": 2,
    "resolution": 4.233341800016934,
    "scale": 16000
   },
   {
    "level": 3,
    "resolution": 2.116670900008467,
    "scale": 8000
   },
   {
    "level": 4,
    "resolution": 1.0583354500042335,
    "scale": 4000
   },
   {
    "level": 5,
    "resolution": 0.5291677250021167,
    "scale": 2000
   },
   {
    "level": 6,
    "resolution": 0.26458386250105836,
    "scale": 1000
   },
   {
    "level": 7,
    "resolution": 0.13229193125052918,
    "scale": 500
   },
   {
    "level": 8,
    "resolution": 0.05291677250021167,
    "scale": 200
   }
  ]
 },
 "initialExtent": {
  "xmin": 48757.05943699602,
  "ymin": -67298.97392524999,
  "xmax": 63613.44331643044,
  "ymax": -59520.208367718864,
  "spatialReference": {
   "wkt": "PROJCS[\"Cassini_RSM_GR\",GEOGCS[\"GCS_Cassini_GR\",DATUM[\"D_Bessel_1841\",SPHEROID[\"Bessel_1841\",6377397.155,299.1528128]],PRIMEM[\"Genova\",8.921030277],UNIT[\"Degree\",0.0174532925199433]],PROJECTION[\"Cassini\"],PARAMETER[\"False_Easting\",0.0],PARAMETER[\"False_Northing\",0.0],PARAMETER[\"Central_Meridian\",11.75306861],PARAMETER[\"Scale_Factor\",1.0],PARAMETER[\"Latitude_Of_Origin\",44.53195694],UNIT[\"Meter\",1.0]]"
  }
 },
 "fullExtent": {
  "xmin": 51939.5,
  "ymin": -70942.5,
  "xmax": 61439.5,
  "ymax": -59568.5,
  "spatialReference": {
   "wkt": "PROJCS[\"Cassini_RSM_GR\",GEOGCS[\"GCS_Cassini_GR\",DATUM[\"D_Bessel_1841\",SPHEROID[\"Bessel_1841\",6377397.155,299.1528128]],PRIMEM[\"Genova\",8.921030277],UNIT[\"Degree\",0.0174532925199433]],PROJECTION[\"Cassini\"],PARAMETER[\"False_Easting\",0.0],PARAMETER[\"False_Northing\",0.0],PARAMETER[\"Central_Meridian\",11.75306861],PARAMETER[\"Scale_Factor\",1.0],PARAMETER[\"Latitude_Of_Origin\",44.53195694],UNIT[\"Meter\",1.0]]"
  }
 },
 "minScale": 50000,
 "maxScale": 200,
 "minLOD": 0,
 "maxLOD": 8,
 "units": "esriMeters",
 "supportedImageFormatTypes": "PNG32,PNG24,PNG,JPG,DIB,TIFF,EMF,PS,PDF,GIF,SVG,SVGZ,BMP",
 "documentInfo": {
  "Title": "",
  "Author": "",
  "Comments": "pendenze 2018",
  "Subject": "pendenze 2018",
  "Category": "",
  "AntialiasingMode": "None",
  "TextAntialiasingMode": "Force",
  "Keywords": "pendenze"
 },
 "capabilities": "Map,Query,Data",
 "supportedQueryFormats": "JSON, geoJSON",
 "exportTilesAllowed": false,
 "datumTransformations": [
  {
   "geoTransforms": [
    {
     "wkt": "GEOGTRAN[\"rsm_ntv2\",GEOGCS[\"GCS_WGS_1984\",DATUM[\"D_WGS_1984\",SPHEROID[\"WGS_1984\",6378137.0,298.257223563]],PRIMEM[\"Greenwich\",0.0],UNIT[\"Degree\",0.0174532925199433]],GEOGCS[\"GCS_Cassini_GR\",DATUM[\"D_Bessel_1841\",SPHEROID[\"Bessel_1841\",6377397.155,299.1528128]],PRIMEM[\"Genova\",8.921030277],UNIT[\"Degree\",0.0174532925199433]],METHOD[\"NTv2\"],PARAMETER[\"Dataset_sanmarino/RSM_WGS84_B41.gsb\",0.0]]",
     "transformForward": true,
     "name": "rsm_ntv2"
    }
   ]
  },
  {
   "geoTransforms": [
    {
     "wkt": "GEOGTRAN[\"rsm_ntv2\",GEOGCS[\"GCS_WGS_1984\",DATUM[\"D_WGS_1984\",SPHEROID[\"WGS_1984\",6378137.0,298.257223563]],PRIMEM[\"Greenwich\",0.0],UNIT[\"Degree\",0.0174532925199433]],GEOGCS[\"GCS_Cassini_GR\",DATUM[\"D_Bessel_1841\",SPHEROID[\"Bessel_1841\",6377397.155,299.1528128]],PRIMEM[\"Genova\",8.921030277],UNIT[\"Degree\",0.0174532925199433]],METHOD[\"NTv2\"],PARAMETER[\"Dataset_sanmarino/RSM_WGS84_B41.gsb\",0.0]]",
     "transformForward": false,
     "name": "rsm_ntv2"
    }
   ]
  }
 ],
 "supportsDatumTransformation": true,
 "maxRecordCount": 1000,
 "maxImageHeight": 4096,
 "maxImageWidth": 4096,
 "supportedExtensions": ""
}
