{
 "currentVersion": 10.71,
 "serviceDescription": "stradario",
 "mapName": "RSM",
 "description": "",
 "copyrightText": "",
 "supportsDynamicLayers": true,
 "layers": [
  {
   "id": 0,
   "name": "edifici",
   "parentLayerId": -1,
   "defaultVisibility": true,
   "subLayerIds": null,
   "minScale": 0,
   "maxScale": 0,
   "type": "Feature Layer",
   "geometryType": "esriGeometryPolygon"
  },
  {
   "id": 1,
   "name": "torrenti",
   "parentLayerId": -1,
   "defaultVisibility": true,
   "subLayerIds": null,
   "minScale": 0,
   "maxScale": 0,
   "type": "Feature Layer",
   "geometryType": "esriGeometryPolygon"
  },
  {
   "id": 2,
   "name": "torrenti_tx",
   "parentLayerId": -1,
   "defaultVisibility": true,
   "subLayerIds": null,
   "minScale": 0,
   "maxScale": 0,
   "type": "Feature Layer",
   "geometryType": "esriGeometryPoint"
  },
  {
   "id": 3,
   "name": "localita_tx",
   "parentLayerId": -1,
   "defaultVisibility": true,
   "subLayerIds": null,
   "minScale": 0,
   "maxScale": 0,
   "type": "Feature Layer",
   "geometryType": "esriGeometryPoint"
  },
  {
   "id": 4,
   "name": "castelli_fl",
   "parentLayerId": -1,
   "defaultVisibility": true,
   "subLayerIds": null,
   "minScale": 0,
   "maxScale": 0,
   "type": "Feature Layer",
   "geometryType": "esriGeometryPolygon"
  },
  {
   "id": 5,
   "name": "castelli_tx",
   "parentLayerId": -1,
   "defaultVisibility": true,
   "subLayerIds": null,
   "minScale": 0,
   "maxScale": 0,
   "type": "Feature Layer",
   "geometryType": "esriGeometryPoint"
  },
  {
   "id": 6,
   "name": "aree_urbane",
   "parentLayerId": -1,
   "defaultVisibility": true,
   "subLayerIds": null,
   "minScale": 0,
   "maxScale": 0,
   "type": "Feature Layer",
   "geometryType": "esriGeometryPolygon"
  },
  {
   "id": 7,
   "name": "Stato",
   "parentLayerId": -1,
   "defaultVisibility": true,
   "subLayerIds": null,
   "minScale": 0,
   "maxScale": 0,
   "type": "Feature Layer",
   "geometryType": "esriGeometryPolygon"
  },
  {
   "id": 8,
   "name": "strade_osm",
   "parentLayerId": -1,
   "defaultVisibility": true,
   "subLayerIds": null,
   "minScale": 0,
   "maxScale": 0,
   "type": "Feature Layer",
   "geometryType": "esriGeometryPolyline"
  }
 ],
 "tables": [
  {
   "id": 9,
   "name": "sitsde.SITPIANI.codici_via",
   "type": "Table"
  }
 ],
 "spatialReference": {
  "wkt": "PROJCS[\"Cassini_RSM_GR\",GEOGCS[\"GCS_Cassini_GR\",DATUM[\"D_Bessel_1841\",SPHEROID[\"Bessel_1841\",6377397.155,299.1528128]],PRIMEM[\"Genova\",8.921030277],UNIT[\"Degree\",0.0174532925199433]],PROJECTION[\"Cassini\"],PARAMETER[\"False_Easting\",0.0],PARAMETER[\"False_Northing\",0.0],PARAMETER[\"Central_Meridian\",11.75306861],PARAMETER[\"Scale_Factor\",1.0],PARAMETER[\"Latitude_Of_Origin\",44.53195694],UNIT[\"Meter\",1.0]]"
 },
 "singleFusedMapCache": true,
 "tileInfo": {
  "rows": 512,
  "cols": 512,
  "dpi": 96,
  "format": "PNG24",
  "compressionQuality": 0,
  "origin": {
   "x": -5008900,
   "y": 5068600
  },
  "spatialReference": {
   "wkt": "PROJCS[\"Cassini_RSM_GR\",GEOGCS[\"GCS_Cassini_GR\",DATUM[\"D_Bessel_1841\",SPHEROID[\"Bessel_1841\",6377397.155,299.1528128]],PRIMEM[\"Genova\",8.921030277],UNIT[\"Degree\",0.0174532925199433]],PROJECTION[\"Cassini\"],PARAMETER[\"False_Easting\",0.0],PARAMETER[\"False_Northing\",0.0],PARAMETER[\"Central_Meridian\",11.75306861],PARAMETER[\"Scale_Factor\",1.0],PARAMETER[\"Latitude_Of_Origin\",44.53195694],UNIT[\"Meter\",1.0]]"
  },
  "lods": [
   {
    "level": 0,
    "resolution": 13.229193125052918,
    "scale": 50000
   },
   {
    "level": 1,
    "resolution": 6.614596562526459,
    "scale": 25000
   },
   {
    "level": 2,
    "resolution": 4.233341800016934,
    "scale": 16000
   },
   {
    "level": 3,
    "resolution": 2.116670900008467,
    "scale": 8000
   },
   {
    "level": 4,
    "resolution": 1.0583354500042335,
    "scale": 4000
   },
   {
    "level": 5,
    "resolution": 0.5291677250021167,
    "scale": 2000
   },
   {
    "level": 6,
    "resolution": 0.26458386250105836,
    "scale": 1000
   },
   {
    "level": 7,
    "resolution": 0.13229193125052918,
    "scale": 500
   },
   {
    "level": 8,
    "resolution": 0.05291677250021167,
    "scale": 200
   }
  ]
 },
 "initialExtent": {
  "xmin": 55446.18460371534,
  "ymin": -66294.64069765956,
  "xmax": 56349.0770345002,
  "ymax": -65920.91599187681,
  "spatialReference": {
   "wkt": "PROJCS[\"Cassini_RSM_GR\",GEOGCS[\"GCS_Cassini_GR\",DATUM[\"D_Bessel_1841\",SPHEROID[\"Bessel_1841\",6377397.155,299.1528128]],PRIMEM[\"Genova\",8.921030277],UNIT[\"Degree\",0.0174532925199433]],PROJECTION[\"Cassini\"],PARAMETER[\"False_Easting\",0.0],PARAMETER[\"False_Northing\",0.0],PARAMETER[\"Central_Meridian\",11.75306861],PARAMETER[\"Scale_Factor\",1.0],PARAMETER[\"Latitude_Of_Origin\",44.53195694],UNIT[\"Meter\",1.0]]"
  }
 },
 "fullExtent": {
  "xmin": 52183.43699999992,
  "ymin": -70734.57100000046,
  "xmax": 61245.642400000244,
  "ymax": -59904.9338000007,
  "spatialReference": {
   "wkt": "PROJCS[\"Cassini_RSM_GR\",GEOGCS[\"GCS_Cassini_GR\",DATUM[\"D_Bessel_1841\",SPHEROID[\"Bessel_1841\",6377397.155,299.1528128]],PRIMEM[\"Genova\",8.921030277],UNIT[\"Degree\",0.0174532925199433]],PROJECTION[\"Cassini\"],PARAMETER[\"False_Easting\",0.0],PARAMETER[\"False_Northing\",0.0],PARAMETER[\"Central_Meridian\",11.75306861],PARAMETER[\"Scale_Factor\",1.0],PARAMETER[\"Latitude_Of_Origin\",44.53195694],UNIT[\"Meter\",1.0]]"
  }
 },
 "minScale": 50000,
 "maxScale": 200,
 "minLOD": 0,
 "maxLOD": 8,
 "units": "esriMeters",
 "supportedImageFormatTypes": "PNG32,PNG24,PNG,JPG,DIB,TIFF,EMF,PS,PDF,GIF,SVG,SVGZ,BMP",
 "documentInfo": {
  "Title": "",
  "Author": "",
  "Comments": "stradario",
  "Subject": "stradario",
  "Category": "",
  "AntialiasingMode": "None",
  "TextAntialiasingMode": "Force",
  "Keywords": "stradario"
 },
 "capabilities": "Map,Query,Data",
 "supportedQueryFormats": "JSON, geoJSON",
 "hasVersionedData": true,
 "exportTilesAllowed": false,
 "datumTransformations": [
  {
   "geoTransforms": [
    {
     "wkid": 108001,
     "latestWkid": 1241,
     "transformForward": true,
     "name": "NAD_1927_To_NAD_1983_NADCON"
    }
   ]
  },
  {
   "geoTransforms": [
    {
     "wkid": 108001,
     "latestWkid": 1241,
     "transformForward": false,
     "name": "NAD_1927_To_NAD_1983_NADCON"
    }
   ]
  }
 ],
 "supportsDatumTransformation": true,
 "maxRecordCount": 1000,
 "maxImageHeight": 4096,
 "maxImageWidth": 4096,
 "supportedExtensions": ""
}
